BEGIN:VCALENDAR
VERSION:2.0
PRODID:-//eventon.com NONSGML v1.0//EN
CALSCALE:GREGORIAN
METHOD:PUBLISH
BEGIN:VEVENT
UID:69e88a5c0402f
DTSTAMP:20260422T084412Z
DTSTART:20251203T193000Z
DTEND:20251203T220000Z
LOCATION:The Bush Inn The Bush Inn\,  Cowbridge CF71 7DP
SUMMARY:South Wales Branch Meeting
DESCRIPTION:PLEASE NOTE: No meeting in January https://swmmoc.co.uk/\nhttps
 ://branches.mmoc.org.uk/events/wales-south-branch-meeting/var/ri-2.l-L1
URL:https://branches.mmoc.org.uk/events/wales-south-branch-meeting/var/ri-2.l-L1
END:VEVENT
END:VCALENDAR