BEGIN:VCALENDAR
VERSION:2.0
PRODID:-//eventon.com NONSGML v1.0//EN
CALSCALE:GREGORIAN
METHOD:PUBLISH
BEGIN:VEVENT
UID:69e9dcc6861ab
DTSTAMP:20260423T084806Z
DTSTART:20260401
DTEND:20260501
LOCATION:
SUMMARY:Scotland North East Branch Meeting
DESCRIPTION:Please call for meeting details https://snemmoc.wordpress.com/\
 nhttps://branches.mmoc.org.uk/events/scotland-north-east-branch-meeting/var
 /ri-6.l-L1
URL:https://branches.mmoc.org.uk/events/scotland-north-east-branch-meeting/var/ri-6.l-L1
END:VEVENT
END:VCALENDAR