BEGIN:VCALENDAR
VERSION:2.0
PRODID:-//eventon.com NONSGML v1.0//EN
CALSCALE:GREGORIAN
METHOD:PUBLISH
BEGIN:VEVENT
UID:69e73688cefa9
DTSTAMP:20260421T083416Z
DTSTART:20260408T190000Z
DTEND:20260408T205900Z
LOCATION:
SUMMARY:North West Kent Borders Branch Meeting
DESCRIPTION:North West Kent Borders Branch Meeting\nhttps://branches.mmoc.o
 rg.uk/events/north-west-kent-borders-branch-meeting/var/ri-6.l-L1
URL:https://branches.mmoc.org.uk/events/north-west-kent-borders-branch-meeting/var/ri-6.l-L1
END:VEVENT
END:VCALENDAR