BEGIN:VCALENDAR
VERSION:2.0
PRODID:-//eventon.com NONSGML v1.0//EN
CALSCALE:GREGORIAN
METHOD:PUBLISH
BEGIN:VEVENT
UID:69ea0a6a42c98
DTSTAMP:20260423T120250Z
DTSTART:20260421T183000Z
DTEND:20260421T210000Z
LOCATION:Civil Service Club Recreation Road\,  Maidstone\,  ME14 5AZ NB
SUMMARY:Kent Branch Meeting
DESCRIPTION:Summer meetings can be elsewhere so please contact for more inf
 ormation before travelling\nhttps://branches.mmoc.org.uk/events/kent-branch
 -meeting/var/ri-6.l-L1
URL:https://branches.mmoc.org.uk/events/kent-branch-meeting/var/ri-6.l-L1
END:VEVENT
END:VCALENDAR