BEGIN:VCALENDAR
VERSION:2.0
PRODID:-//eventon.com NONSGML v1.0//EN
CALSCALE:GREGORIAN
METHOD:PUBLISH
BEGIN:VEVENT
UID:69e73688cfcd9
DTSTAMP:20260421T083416Z
DTSTART:20260414T183000Z
DTEND:20260414T225900Z
LOCATION:The Red Lion Old Road\,  Betchworth RH3 7DS
SUMMARY:Hertfordshire Branch Meeting
DESCRIPTION:Please note the postcode for this venue isn&#8217;t much good\,
   hence we recommend you use What Three Words instead &#8211; our location 
 on that is number.fade.idea\nhttps://branches.mmoc.org.uk/events/hertfordsh
 ire-branch-meeting/var/ri-8.l-L1
URL:https://branches.mmoc.org.uk/events/hertfordshire-branch-meeting/var/ri-8.l-L1
END:VEVENT
END:VCALENDAR