BEGIN:VCALENDAR
VERSION:2.0
PRODID:-//eventon.com NONSGML v1.0//EN
CALSCALE:GREGORIAN
METHOD:PUBLISH
BEGIN:VEVENT
UID:69e7368a105d7
DTSTAMP:20260421T083418Z
DTSTART:20260401T190000Z
DTEND:20260401T205900Z
LOCATION:Overstone Manor Pub &amp; Carvery 180 Ecton Ln\,  Sywell\,  Northampton NN6 0BB
SUMMARY:Northants Branch Meeting
DESCRIPTION:https://northantsmmoc.weebly.com/\nhttps://branches.mmoc.org.uk
 /events/northants-branch-meeting/var/ri-9.l-L1
URL:https://branches.mmoc.org.uk/events/northants-branch-meeting/var/ri-9.l-L1
END:VEVENT
END:VCALENDAR